BEGIN:VCALENDAR
PRODID:-//eluceo/ical//2.0/EN
VERSION:2.0
CALSCALE:GREGORIAN
BEGIN:VEVENT
UID:cac6bfb821a4af9226400bb983868a34
DTSTAMP:20260422T203848Z
SUMMARY:NJC Opening Lunch
DESCRIPTION:Jewish Federation of Greater Naples\nCommunity Calendar\nhttps:
 //jewishnaples.org/calendar/njc-opening-lunch\n\nNJC\n\nOpening Lunch
DTSTART;TZID=America/New_York:20171024T120000
DTEND;TZID=America/New_York:20171024T140000
END:VEVENT
END:VCALENDAR
