BEGIN:VCALENDAR
PRODID:-//eluceo/ical//2.0/EN
VERSION:2.0
CALSCALE:GREGORIAN
BEGIN:VEVENT
UID:303fdcea55e8b8a134501f470fc7226d
DTSTAMP:20260422T211552Z
SUMMARY:NJC No shabbat Services
DESCRIPTION:Jewish Federation of Greater Naples\nCommunity Calendar\nhttps:
 //jewishnaples.org/calendar/njc-no-shabbat-services\n\nNo shabbat Services
  at NJC
DTSTART;TZID=America/New_York:20250103T190000
DTEND;TZID=America/New_York:20250103T210000
END:VEVENT
END:VCALENDAR
