BEGIN:VCALENDAR
PRODID:-//eluceo/ical//2.0/EN
VERSION:2.0
CALSCALE:GREGORIAN
BEGIN:VEVENT
UID:342f242e3fbd0b7f7600bcaef22aa62d
DTSTAMP:20260423T102321Z
SUMMARY:NJC Listen Up!
DESCRIPTION:Jewish Federation of Greater Naples\nCommunity Calendar\nhttps:
 //jewishnaples.org/calendar/njc-listen-up-1679336099\n\nNJC presents Liste
 n Up!\n\nClick HERE to purchase tickets\n\n \n\n \n\nNaples Jewish Congr
 egation\n\nOur Music\, Our People\n\nJoin us on March 10th to celebrate bo
 th.\n\nFor details\, visit us at https://naplesjewishcongregation.org\n\n
 https://www.youtube.com/watch?v=py0AXGvDAXA\n\n 
DTSTART;TZID=America/New_York:20240310T190000
DTEND;TZID=America/New_York:20240310T210000
END:VEVENT
END:VCALENDAR
