BEGIN:VCALENDAR
PRODID:-//eluceo/ical//2.0/EN
VERSION:2.0
CALSCALE:GREGORIAN
BEGIN:VEVENT
UID:17ad77f3e41211600db570024a263b54
DTSTAMP:20260422T213838Z
SUMMARY:NJC Lifelong Learning with Rabbi Herman
DESCRIPTION:Jewish Federation of Greater Naples\nCommunity Calendar\nhttps:
 //jewishnaples.org/calendar/njc-lifelong-learning-with-rabbi-herman-172657
 7121\n\nRabbi Herman starts the Lifelong learning class/discussion at 5:00
  and it is followed by light dinner at 6:00pm. Reservations for dinner are
  needed.
DTSTART;TZID=America/New_York:20241115T170000
DTEND;TZID=America/New_York:20241115T180000
END:VEVENT
END:VCALENDAR
