BEGIN:VCALENDAR
PRODID:-//eluceo/ical//2.0/EN
VERSION:2.0
CALSCALE:GREGORIAN
BEGIN:VEVENT
UID:946f84efbf405a1a2e44cdb924e9d149
DTSTAMP:20260422T225336Z
SUMMARY:NJC Game Day
DESCRIPTION:Jewish Federation of Greater Naples\nCommunity Calendar\nhttps:
 //jewishnaples.org/calendar/njc-game-day-1560951974\n\nContact Naples Jewi
 sh Congregation for more details.\n\nMarch 1\, 2021
DTSTART;TZID=America/New_York:20210301T100000
DTEND;TZID=America/New_York:20210301T143000
END:VEVENT
END:VCALENDAR
