BEGIN:VCALENDAR
PRODID:-//eluceo/ical//2.0/EN
VERSION:2.0
CALSCALE:GREGORIAN
BEGIN:VEVENT
UID:434a04640b7b394aea59ee218cc7a3c4
DTSTAMP:20260423T123323Z
SUMMARY:NJC Friday Night Shabbat Services
DESCRIPTION:Jewish Federation of Greater Naples\nCommunity Calendar\nhttps:
 //jewishnaples.org/calendar/njc-friday-night-shabbat-services\n\nheld at U
 U
DTSTART;TZID=America/New_York:20170127T193000
DTEND;TZID=America/New_York:20170127T193000
END:VEVENT
END:VCALENDAR
