BEGIN:VCALENDAR
PRODID:-//eluceo/ical//2.0/EN
VERSION:2.0
CALSCALE:GREGORIAN
BEGIN:VEVENT
UID:37c7bd09e6fc86bd0057fd8629d76ad9
DTSTAMP:20260423T165634Z
SUMMARY:NJC Friday Night Services
DESCRIPTION:Jewish Federation of Greater Naples\nCommunity Calendar\nhttps:
 //jewishnaples.org/calendar/njc-friday-night-services-1734201421\n\nOur Fr
 iday evening services at Naples Jewish Congregation are a beautiful celebr
 ation of community\, tradition\, and inspiration. Together\, we honor the 
 sacred rituals that connect us to generations past while embracing the pre
 sent with warmth and intention.Led by Rabbi Herman\, whose insightful serm
 ons offer wisdom and reflection\, our services are a time to gather as one
  community. The melodies of both traditional and contemporary music enrich
  our worship\, uniting us in song and spirit. The ble...
DTSTART;TZID=America/New_York:20250110T190000
DTEND;TZID=America/New_York:20250110T210000
END:VEVENT
END:VCALENDAR
