BEGIN:VCALENDAR
PRODID:-//eluceo/ical//2.0/EN
VERSION:2.0
CALSCALE:GREGORIAN
BEGIN:VEVENT
UID:8e70f45c00be53de7e1f5b79cc62b0d1
DTSTAMP:20260423T033732Z
SUMMARY:NJC Friday Night Services
DESCRIPTION:Jewish Federation of Greater Naples\nCommunity Calendar\nhttps:
 //jewishnaples.org/calendar/njc-friday-night-services\n\nServices start  a
 t 7:00 PM and a light dinner with great desserts is served at 6:00 pm. Res
 ervations are required for dinner by responding by email to  dlechtner@gma
 il.com. The cost for the dinner is $10 per person.
DTSTART;TZID=America/New_York:20240719T180000
DTEND;TZID=America/New_York:20240719T200000
END:VEVENT
END:VCALENDAR
