BEGIN:VCALENDAR
PRODID:-//eluceo/ical//2.0/EN
VERSION:2.0
CALSCALE:GREGORIAN
BEGIN:VEVENT
UID:997be789129608ac50f22b4b726ac111
DTSTAMP:20260420T030340Z
SUMMARY:NJC Friday Evening Services
DESCRIPTION:Jewish Federation of Greater Naples\nCommunity Calendar\nhttps:
 //jewishnaples.org/calendar/njc-friday-evening-services-1726579395\n\nServ
 ices are followed by our community Oneg\, Join us!
DTSTART;TZID=America/New_York:20241213T190000
DTEND;TZID=America/New_York:20241213T210000
END:VEVENT
END:VCALENDAR
