BEGIN:VCALENDAR
PRODID:-//eluceo/ical//2.0/EN
VERSION:2.0
CALSCALE:GREGORIAN
BEGIN:VEVENT
UID:81823e1b5063b09b46e607d24459626b
DTSTAMP:20260422T064218Z
SUMMARY:NJC Friday Evening Services
DESCRIPTION:Jewish Federation of Greater Naples\nCommunity Calendar\nhttps:
 //jewishnaples.org/calendar/njc-friday-evening-services-1726577738\n\nFrid
 ay evening services are followed by a community Oneg. Join us!
DTSTART;TZID=America/New_York:20241122T190000
DTEND;TZID=America/New_York:20241122T210000
END:VEVENT
END:VCALENDAR
