BEGIN:VCALENDAR
PRODID:-//eluceo/ical//2.0/EN
VERSION:2.0
CALSCALE:GREGORIAN
BEGIN:VEVENT
UID:543e96c98eb3f711ab399aeed72da316
DTSTAMP:20260423T115157Z
SUMMARY:NJC Friday Evening Services
DESCRIPTION:Jewish Federation of Greater Naples\nCommunity Calendar\nhttps:
 //jewishnaples.org/calendar/njc-friday-evening-services\n\nServices will b
 e lead by Rabbi Herman. Oneg will  follow.
DTSTART;TZID=America/New_York:20241101T190000
DTEND;TZID=America/New_York:20241101T210000
END:VEVENT
END:VCALENDAR
