BEGIN:VCALENDAR
PRODID:-//eluceo/ical//2.0/EN
VERSION:2.0
CALSCALE:GREGORIAN
BEGIN:VEVENT
UID:5db359312a1245a9282358342a635717
DTSTAMP:20260421T034411Z
SUMMARY:NJC Community Seder
DESCRIPTION:Jewish Federation of Greater Naples\nCommunity Calendar\nhttps:
 //jewishnaples.org/calendar/njc-community-seder\n\nLongshore Lakes Clubhou
 se
DTSTART;TZID=America/New_York:20170410T170000
DTEND;TZID=America/New_York:20170410T170000
END:VEVENT
END:VCALENDAR
