BEGIN:VCALENDAR
PRODID:-//eluceo/ical//2.0/EN
VERSION:2.0
CALSCALE:GREGORIAN
BEGIN:VEVENT
UID:6e4db92ca826d9c1766372db18c5d9a6
DTSTAMP:20260423T203611Z
SUMMARY:NJC Community Passover Seder
DESCRIPTION:Jewish Federation of Greater Naples\nCommunity Calendar\nhttps:
 //jewishnaples.org/calendar/njc-community-passover-seder-1712234504\n\nFro
 m our Family to Yours\,  Join us with your family and friends. Let's come 
 together to retell the story of Freedom\, share the Passover traditional f
 ood and celebrate the spirit of togetherness.\nFor more  information\, vis
 it us at https://naplesjewishcongregation.org
DTSTART;TZID=America/New_York:20240422T173000
DTEND;TZID=America/New_York:20240422T193000
END:VEVENT
END:VCALENDAR
