BEGIN:VCALENDAR
PRODID:-//eluceo/ical//2.0/EN
VERSION:2.0
CALSCALE:GREGORIAN
BEGIN:VEVENT
UID:5d9ecde96cf6059799ef9865836f2f94
DTSTAMP:20260423T212134Z
SUMMARY:NJC Closing Lunch
DESCRIPTION:Jewish Federation of Greater Naples\nCommunity Calendar\nhttps:
 //jewishnaples.org/calendar/njc-closing-lunch\n\nNJC\n\nClosing Lunch
DTSTART;TZID=America/New_York:20180417T000000
DTEND;TZID=America/New_York:20180417T140000
END:VEVENT
END:VCALENDAR
