BEGIN:VCALENDAR
PRODID:-//eluceo/ical//2.0/EN
VERSION:2.0
CALSCALE:GREGORIAN
BEGIN:VEVENT
UID:ab560628f40ad74ab08d05873b81aadc
DTSTAMP:20260420T144831Z
SUMMARY:NJC Chanukah Shabbat
DESCRIPTION:Jewish Federation of Greater Naples\nCommunity Calendar\nhttps:
 //jewishnaples.org/calendar/njc-chanukah-shabbat-1588079234\n\nNJC\nChanuk
 ah Shabbat
DTSTART;TZID=America/New_York:20201212T100000
DTEND;TZID=America/New_York:20201212T120000
END:VEVENT
END:VCALENDAR
