BEGIN:VCALENDAR
PRODID:-//eluceo/ical//2.0/EN
VERSION:2.0
CALSCALE:GREGORIAN
BEGIN:VEVENT
UID:0bf7ebe890f39ca5e8270f8a6eb663b8
DTSTAMP:20260423T191019Z
SUMMARY:NJC Chanukah
DESCRIPTION:Jewish Federation of Greater Naples\nCommunity Calendar\nhttps:
 //jewishnaples.org/calendar/njc-chanukah\n\nNaples Jewish Congregation\n\n
 Chanukah time!
DTSTART;TZID=America/New_York:20181205T170000
DTEND;TZID=America/New_York:20181205T190000
END:VEVENT
END:VCALENDAR
