BEGIN:VCALENDAR
PRODID:-//eluceo/ical//2.0/EN
VERSION:2.0
CALSCALE:GREGORIAN
BEGIN:VEVENT
UID:506b0748c6ef5647899cb1a439c1b4c6
DTSTAMP:20260423T210354Z
SUMMARY:NJC Board of Director's Meetings
DESCRIPTION:Jewish Federation of Greater Naples\nCommunity Calendar\nhttps:
 //jewishnaples.org/calendar/njc-board-of-directors-meetings\n\nNJC \n\nBo
 ard of Director's Meetings
DTSTART;TZID=America/New_York:20180110T160000
DTEND;TZID=America/New_York:20180110T180000
END:VEVENT
END:VCALENDAR
