BEGIN:VCALENDAR
PRODID:-//eluceo/ical//2.0/EN
VERSION:2.0
CALSCALE:GREGORIAN
BEGIN:VEVENT
UID:90667a2497dd395c54cd33ae2058e9a6
DTSTAMP:20260420T073909Z
SUMMARY:NJC Board of Director's Meeting
DESCRIPTION:Jewish Federation of Greater Naples\nCommunity Calendar\nhttps:
 //jewishnaples.org/calendar/njc-board-of-directors-meeting-1558108212\n\nN
 aples Jewish Congregation Board of Director's Meeting\n\nMeeting takes pla
 ce at: Jewish Federation of Greater Naples\n 
DTSTART;TZID=America/New_York:20190711T140000
DTEND;TZID=America/New_York:20190711T160000
END:VEVENT
END:VCALENDAR
