BEGIN:VCALENDAR
PRODID:-//eluceo/ical//2.0/EN
VERSION:2.0
CALSCALE:GREGORIAN
BEGIN:VEVENT
UID:70f599d6d47351d6c451b0863f1f7ee3
DTSTAMP:20260424T035916Z
SUMMARY:NJC Board Dir. Mtg
DESCRIPTION:Jewish Federation of Greater Naples\nCommunity Calendar\nhttps:
 //jewishnaples.org/calendar/njc-board-dir-mtg\n\ninstead of 2nd Thursday f
 or October. \n\nMeet at JFCC
DTSTART;TZID=America/New_York:20161006T140000
DTEND;TZID=America/New_York:20161006T160000
END:VEVENT
END:VCALENDAR
