BEGIN:VCALENDAR
PRODID:-//eluceo/ical//2.0/EN
VERSION:2.0
CALSCALE:GREGORIAN
BEGIN:VEVENT
UID:d077774582372605505c163097430ad6
DTSTAMP:20260423T214655Z
SUMMARY:NJC August Shabbat
DESCRIPTION:Jewish Federation of Greater Naples\nCommunity Calendar\nhttps:
 //jewishnaples.org/calendar/njc-august-shabbat\n\nNJC August Shabbat Servi
 ce
DTSTART;TZID=America/New_York:20170825T190000
DTEND;TZID=America/New_York:20170825T200000
END:VEVENT
END:VCALENDAR
