BEGIN:VCALENDAR
PRODID:-//eluceo/ical//2.0/EN
VERSION:2.0
CALSCALE:GREGORIAN
BEGIN:VEVENT
UID:569ad91b32fa5f34c1d8394901945c39
DTSTAMP:20260422T114713Z
SUMMARY:NJC Artist in Residence Shabbat Service
DESCRIPTION:Jewish Federation of Greater Naples\nCommunity Calendar\nhttps:
 //jewishnaples.org/calendar/njc-artist-in-residence-shabbat-service-164867
 0361\n\nNJC's Artist in Residence Shabbat Service with Julie Silver
DTSTART;TZID=America/New_York:20230203T190000
DTEND;TZID=America/New_York:20230203T210000
END:VEVENT
END:VCALENDAR
