BEGIN:VCALENDAR
PRODID:-//eluceo/ical//2.0/EN
VERSION:2.0
CALSCALE:GREGORIAN
BEGIN:VEVENT
UID:9d65d36f7c4a67d9886d26f350dfc252
DTSTAMP:20260424T092322Z
SUMMARY:NJC Artist in Residence
DESCRIPTION:Jewish Federation of Greater Naples\nCommunity Calendar\nhttps:
 //jewishnaples.org/calendar/njc-artist-in-residence-1682098035\n\nListen U
 p Jewish a capella group returns to Naples
DTSTART;TZID=America/New_York:20240310T190000
DTEND;TZID=America/New_York:20240310T213000
END:VEVENT
END:VCALENDAR
