BEGIN:VCALENDAR
PRODID:-//eluceo/ical//2.0/EN
VERSION:2.0
CALSCALE:GREGORIAN
BEGIN:VEVENT
UID:3b9e1f978e2a53bb9165cc692277e895
DTSTAMP:20260420T164307Z
SUMMARY:NJC Artist in Residence
DESCRIPTION:Jewish Federation of Greater Naples\nCommunity Calendar\nhttps:
 //jewishnaples.org/calendar/njc-artist-in-residence-1648670315\n\nNJC's Ar
 tist in Residence\n\nConcert at Unitarian Universalist Congregation of Gre
 ater Naples
DTSTART;TZID=America/New_York:20230202T190000
DTEND;TZID=America/New_York:20230202T210000
END:VEVENT
END:VCALENDAR
