BEGIN:VCALENDAR
PRODID:-//eluceo/ical//2.0/EN
VERSION:2.0
CALSCALE:GREGORIAN
BEGIN:VEVENT
UID:5a613757be6adffc04f882e7c7290298
DTSTAMP:20260423T171639Z
SUMMARY:NJC Annual Meeting
DESCRIPTION:Jewish Federation of Greater Naples\nCommunity Calendar\nhttps:
 //jewishnaples.org/calendar/njc-annual-meeting-1588079532\n\nNJC\nAnnual m
 eeting
DTSTART;TZID=America/New_York:20210402T180000
DTEND;TZID=America/New_York:20210402T190000
END:VEVENT
END:VCALENDAR
