BEGIN:VCALENDAR
PRODID:-//eluceo/ical//2.0/EN
VERSION:2.0
CALSCALE:GREGORIAN
BEGIN:VEVENT
UID:853432003418b57beb050bfe8ab03ddd
DTSTAMP:20260420T225539Z
SUMMARY:NJC Annual Meeting
DESCRIPTION:Jewish Federation of Greater Naples\nCommunity Calendar\nhttps:
 //jewishnaples.org/calendar/njc-annual-meeting\n\nNJC Annual Meeting
DTSTART;TZID=America/New_York:20190315T180000
DTEND;TZID=America/New_York:20190315T190000
END:VEVENT
END:VCALENDAR
