BEGIN:VCALENDAR
PRODID:-//eluceo/ical//2.0/EN
VERSION:2.0
CALSCALE:GREGORIAN
BEGIN:VEVENT
UID:f6e1bc252b7e1f91777dc9611c4c6ca3
DTSTAMP:20260424T034315Z
SUMMARY:Naples Senior Center- JFCS Better Tomorrows
DESCRIPTION:Jewish Federation of Greater Naples\nCommunity Calendar\nhttps:
 //jewishnaples.org/calendar/naples-senior-center-jfcs-better-tomorrows\n\n
 Naples Senior Center JFCS\n\nAnnual Evening for Better Tomorrows
DTSTART;TZID=America/New_York:20190112T180000
DTEND;TZID=America/New_York:20190112T200000
END:VEVENT
END:VCALENDAR
