BEGIN:VCALENDAR
PRODID:-//eluceo/ical//2.0/EN
VERSION:2.0
CALSCALE:GREGORIAN
BEGIN:VEVENT
UID:5a538ab2898ede33098da492632a9d6c
DTSTAMP:20260423T004238Z
SUMMARY:Naples Senior Center Gala
DESCRIPTION:Jewish Federation of Greater Naples\nCommunity Calendar\nhttps:
 //jewishnaples.org/calendar/naples-senior-center-gala-1620846805\n\nNaples
  Senior Center
DTSTART;TZID=America/New_York:20220108T180000
DTEND;TZID=America/New_York:20220108T210000
END:VEVENT
END:VCALENDAR
