BEGIN:VCALENDAR
PRODID:-//eluceo/ical//2.0/EN
VERSION:2.0
CALSCALE:GREGORIAN
BEGIN:VEVENT
UID:4cc62e599eba019199453bf60d430461
DTSTAMP:20260423T181609Z
SUMMARY:Naples Senior Center at JFCS Annual Gala
DESCRIPTION:Jewish Federation of Greater Naples\nCommunity Calendar\nhttps:
 //jewishnaples.org/calendar/naples-senior-center-at-jfcs-annual-gala-15912
 08139\n\nNaples Senior Center at JFCS Annual Gala
DTSTART;TZID=America/New_York:20210109T170000
DTEND;TZID=America/New_York:20210109T220000
END:VEVENT
END:VCALENDAR
