BEGIN:VCALENDAR
PRODID:-//eluceo/ical//2.0/EN
VERSION:2.0
CALSCALE:GREGORIAN
BEGIN:VEVENT
UID:bebf164ffd3d58ba74fca767d0cedca4
DTSTAMP:20260420T005046Z
SUMMARY:Naples Jewish Film Festival March 19
DESCRIPTION:Jewish Federation of Greater Naples\nCommunity Calendar\nhttps:
 //jewishnaples.org/calendar/naples-jewish-film-festival-march-19\n\nNaples
  Jewish Film Festival
DTSTART;TZID=America/New_York:20230319T190000
DTEND;TZID=America/New_York:20230319T210000
END:VEVENT
END:VCALENDAR
