BEGIN:VCALENDAR
PRODID:-//eluceo/ical//2.0/EN
VERSION:2.0
CALSCALE:GREGORIAN
BEGIN:VEVENT
UID:5766ce20d18e35cbdbafed578731741d
DTSTAMP:20260421T202514Z
SUMMARY:Naples Jewish Film Festival at 7 pm
DESCRIPTION:Jewish Federation of Greater Naples\nCommunity Calendar\nhttps:
 //jewishnaples.org/calendar/naples-jewish-film-festival-at-7-pm\n\nNaples 
 Jewish Film Festival presents: Running on Sand
DTSTART;TZID=America/New_York:20250302T190000
DTEND;TZID=America/New_York:20250302T210000
END:VEVENT
END:VCALENDAR
