BEGIN:VCALENDAR
PRODID:-//eluceo/ical//2.0/EN
VERSION:2.0
CALSCALE:GREGORIAN
BEGIN:VEVENT
UID:f765a79e095e06d8d54220fe267aa6ef
DTSTAMP:20260420T134405Z
SUMMARY:Naples Jewish Film Festival
DESCRIPTION:Jewish Federation of Greater Naples\nCommunity Calendar\nhttps:
 //jewishnaples.org/calendar/naples-jewish-film-festival-1560951920\n\nCont
 act Naples Jewish Film Festival for more details
DTSTART;TZID=America/New_York:20200322T193000
DTEND;TZID=America/New_York:20200322T213000
END:VEVENT
END:VCALENDAR
