BEGIN:VCALENDAR
PRODID:-//eluceo/ical//2.0/EN
VERSION:2.0
CALSCALE:GREGORIAN
BEGIN:VEVENT
UID:5699eeb2000c7f1b87fb2f19f15f0415
DTSTAMP:20260420T075630Z
SUMMARY:Naples Jewish Film Festival
DESCRIPTION:Jewish Federation of Greater Naples\nCommunity Calendar\nhttps:
 //jewishnaples.org/calendar/naples-jewish-film-festival-1560950504\n\nCont
 act Naples Jewish Film Festival to purchase your tickets
DTSTART;TZID=America/New_York:20200315T193000
DTEND;TZID=America/New_York:20200315T213000
END:VEVENT
END:VCALENDAR
