BEGIN:VCALENDAR
PRODID:-//eluceo/ical//2.0/EN
VERSION:2.0
CALSCALE:GREGORIAN
BEGIN:VEVENT
UID:4f25cce8ca387ded2bc3523e97bcd352
DTSTAMP:20260420T030657Z
SUMMARY:Naples Jewish Film Festival
DESCRIPTION:Jewish Federation of Greater Naples\nCommunity Calendar\nhttps:
 //jewishnaples.org/calendar/naples-jewish-film-festival-1560871010\n\nNapl
 es Film Festival Buy your tickets!
DTSTART;TZID=America/New_York:20200301T193000
DTEND;TZID=America/New_York:20200301T213000
END:VEVENT
END:VCALENDAR
