BEGIN:VCALENDAR
PRODID:-//eluceo/ical//2.0/EN
VERSION:2.0
CALSCALE:GREGORIAN
BEGIN:VEVENT
UID:c313623ec8f60707701a3c0b6c5773f2
DTSTAMP:20260422T224717Z
SUMMARY:Naples Jewish Congregation Shabbat Evening Services
DESCRIPTION:Jewish Federation of Greater Naples\nCommunity Calendar\nhttps:
 //jewishnaples.org/calendar/naples-jewish-congregation-shabbat-evening-ser
 vices-1740055811\n\nJoin us\, you belong!
DTSTART;TZID=America/New_York:20250425T190000
DTEND;TZID=America/New_York:20250425T210000
END:VEVENT
END:VCALENDAR
