BEGIN:VCALENDAR
PRODID:-//eluceo/ical//2.0/EN
VERSION:2.0
CALSCALE:GREGORIAN
BEGIN:VEVENT
UID:f2d05de2b8cfb6a0074607e20bed265e
DTSTAMP:20260424T013859Z
SUMMARY:Naples Jewish Congregation Shabbat Evening Services
DESCRIPTION:Jewish Federation of Greater Naples\nCommunity Calendar\nhttps:
 //jewishnaples.org/calendar/naples-jewish-congregation-shabbat-evening-ser
 vices-1740055323\n\nJoin us\, you belong!
DTSTART;TZID=America/New_York:20250411T190000
DTEND;TZID=America/New_York:20250411T210000
END:VEVENT
END:VCALENDAR
