BEGIN:VCALENDAR
PRODID:-//eluceo/ical//2.0/EN
VERSION:2.0
CALSCALE:GREGORIAN
BEGIN:VEVENT
UID:6c8d0db1c0298f30e2dbc3f4354aa2c0
DTSTAMP:20260423T090526Z
SUMMARY:Naples Jewish Congregation Shabbat Evening Services
DESCRIPTION:Jewish Federation of Greater Naples\nCommunity Calendar\nhttps:
 //jewishnaples.org/calendar/naples-jewish-congregation-shabbat-evening-ser
 vices-1739983708\n\nCome and joi us\, you belong!!
DTSTART;TZID=America/New_York:20250228T190000
DTEND;TZID=America/New_York:20250228T210000
END:VEVENT
END:VCALENDAR
