BEGIN:VCALENDAR
PRODID:-//eluceo/ical//2.0/EN
VERSION:2.0
CALSCALE:GREGORIAN
BEGIN:VEVENT
UID:1c7dbc9724c96f4a29b08182ba652f7c
DTSTAMP:20260420T174851Z
SUMMARY:Naples Jewish Congregation Shabbat Evening Service
DESCRIPTION:Jewish Federation of Greater Naples\nCommunity Calendar\nhttps:
 //jewishnaples.org/calendar/naples-jewish-congregation-shabbat-evening-ser
 vice-1739983903\n\nCome join us\, you belong!
DTSTART;TZID=America/New_York:20250307T190000
DTEND;TZID=America/New_York:20250307T210000
END:VEVENT
END:VCALENDAR
