BEGIN:VCALENDAR
PRODID:-//eluceo/ical//2.0/EN
VERSION:2.0
CALSCALE:GREGORIAN
BEGIN:VEVENT
UID:338ec7366251af475d860fcc24729de4
DTSTAMP:20260422T231645Z
SUMMARY:Naples Jewish Congregation Shabbat
DESCRIPTION:Jewish Federation of Greater Naples\nCommunity Calendar\nhttps:
 //jewishnaples.org/calendar/naples-jewish-congregation-shabbat-1745950746\
 n\nYou're warmly invited to join us in welcoming the Shabbat with a sense 
 of community and joy! Come and be part of a warm\, respectful\, and welcom
 ing environment as we gather to celebrate this special time together. Foll
 owing the service\, we will enjoy a community Oneg\, filled with food\, co
 nversation\, and connection. We look forward to sharing this meaningful mo
 ment with you!
DTSTART;TZID=America/New_York:20250725T180000
DTEND;TZID=America/New_York:20250725T213000
END:VEVENT
END:VCALENDAR
