BEGIN:VCALENDAR
PRODID:-//eluceo/ical//2.0/EN
VERSION:2.0
CALSCALE:GREGORIAN
BEGIN:VEVENT
UID:fe6abde83af068d39102ac419c6fe830
DTSTAMP:20260422T181420Z
SUMMARY:Naples Jewish Congregation services
DESCRIPTION:Jewish Federation of Greater Naples\nCommunity Calendar\nhttps:
 //jewishnaples.org/calendar/naples-jewish-congregation-services-1716564240
 \n\nCome join us for services\n\n 
DTSTART;TZID=America/New_York:20240927T190000
DTEND;TZID=America/New_York:20240927T210000
END:VEVENT
END:VCALENDAR
