BEGIN:VCALENDAR
PRODID:-//eluceo/ical//2.0/EN
VERSION:2.0
CALSCALE:GREGORIAN
BEGIN:VEVENT
UID:fd4602a7d6bd578b0203251dee29a771
DTSTAMP:20260421T192503Z
SUMMARY:Naples Jewish Congregation services
DESCRIPTION:Jewish Federation of Greater Naples\nCommunity Calendar\nhttps:
 //jewishnaples.org/calendar/naples-jewish-congregation-services-1716561941
 \n\nCome join us for services
DTSTART;TZID=America/New_York:20240628T180000
DTEND;TZID=America/New_York:20240628T200000
END:VEVENT
END:VCALENDAR
