BEGIN:VCALENDAR
PRODID:-//eluceo/ical//2.0/EN
VERSION:2.0
CALSCALE:GREGORIAN
BEGIN:VEVENT
UID:cfa7886d1443526714e38eab53e6c4bd
DTSTAMP:20260421T192543Z
SUMMARY:Naples Jewish Congregation services
DESCRIPTION:Jewish Federation of Greater Naples\nCommunity Calendar\nhttps:
 //jewishnaples.org/calendar/naples-jewish-congregation-services-1716561814
 \n\nCome join us for services.
DTSTART;TZID=America/New_York:20240531T190000
DTEND;TZID=America/New_York:20240531T210000
END:VEVENT
END:VCALENDAR
