BEGIN:VCALENDAR
PRODID:-//eluceo/ical//2.0/EN
VERSION:2.0
CALSCALE:GREGORIAN
BEGIN:VEVENT
UID:0601774673660aaef13d4d9e2936bed2
DTSTAMP:20260421T181152Z
SUMMARY:Naples Jewish Congregation Lifelong Education
DESCRIPTION:Jewish Federation of Greater Naples\nCommunity Calendar\nhttps:
 //jewishnaples.org/calendar/naples-jewish-congregation-lifelong-education-
 1759594172\n\nJoin the first class of this year’s NJC Lifelong Learning 
 series! These classes are always inspiring\, as Rabbi Herman generously in
 troduces us to the fascinating knowledge of Jewish tradition and life
DTSTART;TZID=America/New_York:20251017T170000
DTEND;TZID=America/New_York:20251017T180000
END:VEVENT
END:VCALENDAR
