BEGIN:VCALENDAR
PRODID:-//eluceo/ical//2.0/EN
VERSION:2.0
CALSCALE:GREGORIAN
BEGIN:VEVENT
UID:fe7a4bbf6dd1429504954d7d468447f9
DTSTAMP:20260423T114154Z
SUMMARY:Naples Jewish Congregation Erev Rosh Hashanah Worship
DESCRIPTION:Jewish Federation of Greater Naples\nCommunity Calendar\nhttps:
 //jewishnaples.org/calendar/naples-jewish-congregation-erev-rosh-hashanah-
 worship-1745951760\n\nJoin us
DTSTART;TZID=America/New_York:20250922T180000
DTEND;TZID=America/New_York:20250922T210000
END:VEVENT
END:VCALENDAR
