BEGIN:VCALENDAR
PRODID:-//eluceo/ical//2.0/EN
VERSION:2.0
CALSCALE:GREGORIAN
BEGIN:VEVENT
UID:74c5e4d7fc542d338569a1b64ee5d787
DTSTAMP:20260420T221924Z
SUMMARY:Naples Film Festival
DESCRIPTION:Jewish Federation of Greater Naples\nCommunity Calendar\nhttps:
 //jewishnaples.org/calendar/naples-film-festival-1712176961\n\nNaples Jewi
 sh Film Festival\n\n 
DTSTART;TZID=America/New_York:20240414T190000
DTEND;TZID=America/New_York:20240414T210000
END:VEVENT
END:VCALENDAR
