BEGIN:VCALENDAR
PRODID:-//eluceo/ical//2.0/EN
VERSION:2.0
CALSCALE:GREGORIAN
BEGIN:VEVENT
UID:daae89232cbcbf97d9dc9061f7dccedd
DTSTAMP:20260422T184332Z
SUMMARY:My Son the Waiter Still Not Famous
DESCRIPTION:Jewish Federation of Greater Naples\nCommunity Calendar\nhttps:
 //jewishnaples.org/calendar/my-son-the-waiter-still-not-famous\n\n
DTSTART;TZID=America/New_York:20250217T180000
DTEND;TZID=America/New_York:20250217T200000
END:VEVENT
END:VCALENDAR
