BEGIN:VCALENDAR
PRODID:-//eluceo/ical//2.0/EN
VERSION:2.0
CALSCALE:GREGORIAN
BEGIN:VEVENT
UID:46b94c141b17f428f3285287d5a92aa7
DTSTAMP:20260422T164830Z
SUMMARY:Music Performance and Dialogue
DESCRIPTION:Jewish Federation of Greater Naples\nCommunity Calendar\nhttps:
 //jewishnaples.org/calendar/music-performance-and-dialogue\n\nEveryone is 
 invited to join us on Wednesday\, May 28\n\nA Musical Dialogue with Isaac 
 Dorio and Matthew Johnson\n\n6:30-8:00 PM\n\nNina Iser Jewish Cultural Cen
 ter\n\n$18 pp\, students and teachers are free\n\n \n\nCollier County Pub
 lic Schools alumni Isaac Dorio (GCHS '22) and Matthew Johnson (GCHS '21) i
 nvite you to an inspiring and interactive musical experience! Featuring wo
 rks for piano and saxophone by influential American composers such as Aaro
 n Copland and Frederic Rzewski\, this perfor...
DTSTART;TZID=America/New_York:20250528T183000
DTEND;TZID=America/New_York:20250528T200000
END:VEVENT
END:VCALENDAR
