BEGIN:VCALENDAR
PRODID:-//eluceo/ical//2.0/EN
VERSION:2.0
CALSCALE:GREGORIAN
BEGIN:VEVENT
UID:56b3e9f9fabd2895d45de1fffbd78c41
DTSTAMP:20260422T073334Z
SUMMARY:Movies that Matter\, Oct 23
DESCRIPTION:Jewish Federation of Greater Naples\nCommunity Calendar\nhttps:
 //jewishnaples.org/calendar/movies-that-matter-oct-23-1548449480\n\nMovies
  that Matter\n\nA Place At The Table\n\nParagon Pavilion Theater\n\nPurcha
 se tickets at HolocaustMuseumSWFL.org
DTSTART;TZID=America/New_York:20191023T183000
DTEND;TZID=America/New_York:20191023T203000
END:VEVENT
END:VCALENDAR
