BEGIN:VCALENDAR
PRODID:-//eluceo/ical//2.0/EN
VERSION:2.0
CALSCALE:GREGORIAN
BEGIN:VEVENT
UID:accc495cca649af70b1b98e66906420b
DTSTAMP:20260423T114204Z
SUMMARY:Movies That Matter\, Oct. 19
DESCRIPTION:Jewish Federation of Greater Naples\nCommunity Calendar\nhttps:
 //jewishnaples.org/calendar/movies-that-matter-oct-19-1652893747\n\nMovies
  That Matter
DTSTART;TZID=America/New_York:20221019T160000
DTEND;TZID=America/New_York:20221019T180000
END:VEVENT
END:VCALENDAR
