BEGIN:VCALENDAR
PRODID:-//eluceo/ical//2.0/EN
VERSION:2.0
CALSCALE:GREGORIAN
BEGIN:VEVENT
UID:1b7f9326246181d62d41142fa2f480dc
DTSTAMP:20260422T165428Z
SUMMARY:Movies That Matter\, Nov. 13
DESCRIPTION:Jewish Federation of Greater Naples\nCommunity Calendar\nhttps:
 //jewishnaples.org/calendar/movies-that-matter-nov-13\n\n“John Lewis-Get
  in the Way” is the first biographical documentary of the legislator\, a
 ctivist and civil rights leader considered by many to be “the conscience
  of Congress.” This prize-winning film spans more than a half century of
  the life of a man who continues to fight to protect the rights afforded t
 o every person in this nation.\n\nTuesday\, November 13\, 2018\, 7.pm. She
 ffield Theater\, Moorings Park\, 120 Moorings Park Dr.\, Naples\, 34105\n\
 n \n\nThere is no admission charge\, althoug...
DTSTART;TZID=America/New_York:20181113T190000
DTEND;TZID=America/New_York:20181113T210000
END:VEVENT
END:VCALENDAR
