BEGIN:VCALENDAR
PRODID:-//eluceo/ical//2.0/EN
VERSION:2.0
CALSCALE:GREGORIAN
BEGIN:VEVENT
UID:89bdf3a07b822144597b0358368198b2
DTSTAMP:20260421T183737Z
SUMMARY:Movies That Matter\, Dec. 10
DESCRIPTION:Jewish Federation of Greater Naples\nCommunity Calendar\nhttps:
 //jewishnaples.org/calendar/movies-that-matter-dec-10\n\n“Bending the Ar
 c” is the gripping story of Dr. Paul Farmer and others who work on the f
 rontlines of the global health crisis to prove the difference that dedicat
 ed professionals can make in what may seem to be hopeless situations. Prem
 iered at the Sundance Film Festival this “downright inspiring” film gi
 ves viewers an inside looks at the incredible story of improbable heroes w
 ho simply wanted to make a difference.\n\nMonday\, December 10\, 2018\, 6 
 p.m. South Regional Library\, 8065 Lely ...
DTSTART;TZID=America/New_York:20181210T180000
DTEND;TZID=America/New_York:20181210T200000
END:VEVENT
END:VCALENDAR
